BEGIN:VCALENDAR
PRODID:-//eluceo/ical//2.0/EN
VERSION:2.0
CALSCALE:GREGORIAN
BEGIN:VEVENT
UID:4006e1c93bc3bba49a5d08ad9dca8055
DTSTAMP:20260422T192219Z
SUMMARY:Yom HaAtzma’ut
DESCRIPTION:Jewish Federation of Eastern Connecticut\nCommunity Calendar\nh
 ttps://jfec.com/calendar/yom-haatzmaut2026-489033\n\n
DTSTART;TZID=America/New_York:20260422T000000
DTEND;TZID=America/New_York:20260422T235959
END:VEVENT
END:VCALENDAR
