BEGIN:VCALENDAR
PRODID:-//eluceo/ical//2.0/EN
VERSION:2.0
CALSCALE:GREGORIAN
BEGIN:VEVENT
UID:cac82461e92315795c6bfe3f200fa7a6
DTSTAMP:20260421T122713Z
SUMMARY:Second Act's Kosher Hot Lunch
DESCRIPTION:Jewish Federation of Eastern Connecticut\nCommunity Calendar\nh
 ttps://jfec.com/calendar/second-acts-kosher-hot-lunch-winter\n\nThe Kosher
  Hot Lunch program connects seniors in the community and gives much more t
 han just a hot lunch. Friendship\, education\, and sharing life experience
 s are just a few of the benefits our participants have. And of course\, gr
 eat hot lunches that change weekly.\n\nThough sponsored by The Jewish Fede
 ration\, not all we do is Jewish\, and all are always welcome. Educational
  and fun programs\, knowledgeable speakers\, music\, and activities are a 
 regular part of the weekly lunches.\n\nA suggested ...
DTSTART;TZID=America/New_York:20260105T120000
DTEND;TZID=America/New_York:20260105T133000
END:VEVENT
END:VCALENDAR
