BEGIN:VCALENDAR
PRODID:-//eluceo/ical//2.0/EN
VERSION:2.0
CALSCALE:GREGORIAN
BEGIN:VEVENT
UID:14eb18ec5d2c8c9ef54fd61343d0171d
DTSTAMP:20260420T081535Z
SUMMARY:Finding Your Voice as a Parent Webinar: Special Needs
DESCRIPTION:Jewish Federation of Eastern Connecticut\nCommunity Calendar\nh
 ttps://jfec.com/calendar/finding-your-voice-as-a-parent-webinar-special-ne
 eds-1764002962\n\nFinding Your Voice as a Parent Webinar: Supporting Paren
 ts of Special Needs Children – Navigating the Journey\n\nDate: Wednesday
  December 10th 2025 7:00 p.m.-8:00 p.m. EST.\n\nCo-hosted online with the 
 Stamford JCC (Stamford\, CT).\n\nRegister here on Zoom: https://bit.ly/597
 6E2\n\nThis webinar is on Zoom (online/virtual event). It is free and open
  to the public.\n\nNote: This is the webinar that was previously reschedul
 ed from October 22nd.\n\nSpeakers:\n\nAttorney Lawrence Berliner\, Connec.
 ..
DTSTART;TZID=America/New_York:20251210T190000
DTEND;TZID=America/New_York:20251210T200000
END:VEVENT
END:VCALENDAR
