BEGIN:VCALENDAR
PRODID:-//eluceo/ical//2.0/EN
VERSION:2.0
CALSCALE:GREGORIAN
BEGIN:VEVENT
UID:0fd18b72c3b70a4a32495370d88e185e
DTSTAMP:20260421T081009Z
SUMMARY:Ahavath Achim Rosh Hashanah Day 1
DESCRIPTION:Jewish Federation of Eastern Connecticut\nCommunity Calendar\nh
 ttps://jfec.com/calendar/ahavath-achim-rosh-hashanah-day-1\n\nCongregation
  Ahavath Achim Rosh Hashanah Day 1 services.
DTSTART;TZID=America/New_York:20230916T100000
DTEND;TZID=America/New_York:20230916T123000
END:VEVENT
END:VCALENDAR
